BEGIN:VCALENDAR
VERSION:2.0
PRODID:-//eventon.com NONSGML v1.0//EN
CALSCALE:GREGORIAN
METHOD:PUBLISH
BEGIN:VEVENT
UID:69eae8fdc7307
DTSTAMP:20260424T035229Z
DTSTART:20260228T080000Z
DTEND:20260228T150000Z
LOCATION:Forrás Gyermek és Ifjúsági Ház 3300 Eger\,  Bartók Béla tér 6.
SUMMARY:Eger
DESCRIPTION:Fedezd fel a rajzolás rejtett erejét! A jobb agyféltekés ra
 jzolás nem csupán egy kreatív technika – egy belső utazás\,  amely f
 elszabadítja a benned rejlő lehetőségeket. Erőlködés nélkül fejles
 zted magad\,  miközben egy teljesen új látásmód tárul eléd. „Olyan
  volt\,  mintha kikapcsolt volna a világ körülöttem. Elfelejtettem mind
 en gondom\,  és csak a[..]\nhttps://menomanorajzstudio.hu/esemenyek/grafit
 -rajztanfolyam-eger-2026-02-28/
URL:https://menomanorajzstudio.hu/esemenyek/grafit-rajztanfolyam-eger-2026-02-28/
END:VEVENT
END:VCALENDAR