BEGIN:VCALENDAR
VERSION:2.0
PRODID:-//eventon.com NONSGML v1.0//EN
CALSCALE:GREGORIAN
METHOD:PUBLISH
BEGIN:VEVENT
UID:69ead5bf46b9f
DTSTAMP:20260424T023023Z
DTSTART:20260502T070000Z
DTEND:20260502T140000Z
LOCATION:ForrÃ¡s Gyermek Ã©s IfjÃºsÃ¡gi HÃ¡z 3300 Eger\,  BartÃ³k BÃ©la tÃ©r 6.
SUMMARY:Eger
DESCRIPTION:PasztellkrÃ©tÃ¡s tanfolyam A pasztellkrÃ©ta egy csodÃ¡latos esz
 kÃ¶z\,  amely lehetÅ‘vÃ© teszi\,  hogy szÃ­nesben lÃ¡ssuk a vilÃ¡got Ã©s kÃ
 ¶nnyedÃ©n Ã©letre keltsÃ¼k a kreativitÃ¡sunkat. A krÃ©tÃ¡k puha textÃºrÃ¡ja
  Ã©s Ã©lÃ©nk szÃ­nei segÃ­tenek megalkotni gyÃ¶nyÃ¶rÅ± Ã¡tmeneteket Ã©s Ã¡r
 nyalatokat\,  amelyekkel kÃ¼lÃ¶nleges hatÃ¡sokat Ã©rhetÃ¼nk el. HasznÃ¡lata
  nem igÃ©nyel kÃ¼lÃ¶nÃ¶sebb szakÃ©rtelmet\,  Ã­gy kezdÅ‘ Ã©s tapasztalt mÅ±
 vÃ©szek egyarÃ¡nt[..]\nhttps://menomanorajzstudio.hu/esemenyek/pasztellkret
 as-tanfolyam-eger-2026-05-02/
URL:https://menomanorajzstudio.hu/esemenyek/pasztellkretas-tanfolyam-eger-2026-05-02/
END:VEVENT
END:VCALENDAR